BEGIN:VCALENDAR
VERSION:2.0
PRODID:-//Katholisch in Starnberg - ECPv6.15.20//NONSGML v1.0//EN
CALSCALE:GREGORIAN
METHOD:PUBLISH
X-WR-CALNAME:Katholisch in Starnberg
X-ORIGINAL-URL:https://www.katholisch-in-starnberg.de
X-WR-CALDESC:Veranstaltungen für Katholisch in Starnberg
REFRESH-INTERVAL;VALUE=DURATION:PT1H
X-Robots-Tag:noindex
X-PUBLISHED-TTL:PT1H
BEGIN:VTIMEZONE
TZID:Europe/Berlin
BEGIN:DAYLIGHT
TZOFFSETFROM:+0100
TZOFFSETTO:+0200
TZNAME:CEST
DTSTART:20250330T010000
END:DAYLIGHT
BEGIN:STANDARD
TZOFFSETFROM:+0200
TZOFFSETTO:+0100
TZNAME:CET
DTSTART:20251026T010000
END:STANDARD
BEGIN:DAYLIGHT
TZOFFSETFROM:+0100
TZOFFSETTO:+0200
TZNAME:CEST
DTSTART:20260329T010000
END:DAYLIGHT
BEGIN:STANDARD
TZOFFSETFROM:+0200
TZOFFSETTO:+0100
TZNAME:CET
DTSTART:20261025T010000
END:STANDARD
BEGIN:DAYLIGHT
TZOFFSETFROM:+0100
TZOFFSETTO:+0200
TZNAME:CEST
DTSTART:20270328T010000
END:DAYLIGHT
BEGIN:STANDARD
TZOFFSETFROM:+0200
TZOFFSETTO:+0100
TZNAME:CET
DTSTART:20271031T010000
END:STANDARD
END:VTIMEZONE
BEGIN:VEVENT
DTSTART;TZID=Europe/Berlin:20260421T173000
DTEND;TZID=Europe/Berlin:20260421T173000
DTSTAMP:20260421T120708
CREATED:20260415T134116Z
LAST-MODIFIED:20260415T154907Z
UID:10004175-1776792600-1776792600@www.katholisch-in-starnberg.de
SUMMARY:Rosenkranz @ St. Stephan\, Söcking
DESCRIPTION:Hl. Konrad von Parzham\, Ordensbruder\, hl. Anselm\, Bischof .  .  .
URL:https://www.katholisch-in-starnberg.de/event/rosenkranz-st-stephan-soecking-84/
CATEGORIES:Gottesdienste
END:VEVENT
BEGIN:VEVENT
DTSTART;TZID=Europe/Berlin:20260421T180000
DTEND;TZID=Europe/Berlin:20260421T180000
DTSTAMP:20260421T120708
CREATED:20260415T134117Z
LAST-MODIFIED:20260415T154907Z
UID:10004176-1776794400-1776794400@www.katholisch-in-starnberg.de
SUMMARY:Hl. Messe @ St. Stephan\, Söcking
DESCRIPTION:Hl. Konrad von Parzham\, Ordensbruder\, hl. Anselm\, Bischof .  .  .
URL:https://www.katholisch-in-starnberg.de/event/hl-messe-st-stephan-soecking-102/
CATEGORIES:Gottesdienste
END:VEVENT
END:VCALENDAR